BEGIN:VCALENDAR
VERSION:2.0
PRODID:-//Santa Claus Christian Church//Event Calendar//EN
CALSCALE:GREGORIAN
METHOD:PUBLISH
BEGIN:VEVENT
UID:4671@sccc.org
DTSTAMP:20260425T110159Z
DTSTART;VALUE=DATE:20260828
DTEND;VALUE=DATE:20260831
SUMMARY:Come Away with Me Ladies Retreat
DESCRIPTION:Location: Historic Santa Claus Campground\n
LOCATION:Santa Claus Christian Church\, 351 N Holiday Blvd\, Santa Claus\, Indiana\, 47579
URL:https://sccc.org/events/come-away-with-me-ladies-retreat-aug-28-2026-1200am-to-aug-30-2026-1159pm
END:VEVENT
END:VCALENDAR