BEGIN:VCALENDAR
VERSION:2.0
PRODID:-//Santa Claus Christian Church//Event Calendar//EN
CALSCALE:GREGORIAN
METHOD:PUBLISH
BEGIN:VEVENT
UID:4636@sccc.org
DTSTAMP:20260423T135616Z
DTSTART:20260425T170000
DTEND:20260425T200000
SUMMARY:Marriage Night 
DESCRIPTION:
LOCATION:Santa Claus Christian Church - U2\, U4\, U5\, U7\, L2\, L3\, and L4\, 351 N Holiday Blvd\, Santa Claus\, Indiana\, 47579
URL:https://sccc.org/events/marriage-night-apr-25-2026-0500pm-to-apr-25-2026-0800pm
END:VEVENT
END:VCALENDAR